BEGIN:VCALENDAR
VERSION:2.0
PRODID:-//Wyandot Memorial Hospital - ECPv6.15.17.1//NONSGML v1.0//EN
CALSCALE:GREGORIAN
METHOD:PUBLISH
X-WR-CALNAME:Wyandot Memorial Hospital
X-ORIGINAL-URL:https://www.wyandotmemorial.org
X-WR-CALDESC:Events for Wyandot Memorial Hospital
REFRESH-INTERVAL;VALUE=DURATION:PT1H
X-Robots-Tag:noindex
X-PUBLISHED-TTL:PT1H
BEGIN:VTIMEZONE
TZID:America/New_York
BEGIN:DAYLIGHT
TZOFFSETFROM:-0500
TZOFFSETTO:-0400
TZNAME:EDT
DTSTART:20230312T070000
END:DAYLIGHT
BEGIN:STANDARD
TZOFFSETFROM:-0400
TZOFFSETTO:-0500
TZNAME:EST
DTSTART:20231105T060000
END:STANDARD
BEGIN:DAYLIGHT
TZOFFSETFROM:-0500
TZOFFSETTO:-0400
TZNAME:EDT
DTSTART:20240310T070000
END:DAYLIGHT
BEGIN:STANDARD
TZOFFSETFROM:-0400
TZOFFSETTO:-0500
TZNAME:EST
DTSTART:20241103T060000
END:STANDARD
BEGIN:DAYLIGHT
TZOFFSETFROM:-0500
TZOFFSETTO:-0400
TZNAME:EDT
DTSTART:20250309T070000
END:DAYLIGHT
BEGIN:STANDARD
TZOFFSETFROM:-0400
TZOFFSETTO:-0500
TZNAME:EST
DTSTART:20251102T060000
END:STANDARD
END:VTIMEZONE
BEGIN:VEVENT
DTSTART;TZID=America/New_York:20241008T080000
DTEND;TZID=America/New_York:20241008T120000
DTSTAMP:20260424T115930
CREATED:20240111T162442Z
LAST-MODIFIED:20240111T162442Z
UID:10000426-1728374400-1728388800@www.wyandotmemorial.org
SUMMARY:Living with Diabetes
DESCRIPTION:Living with Diabetes will be held on Tuesday\, October 8 and Wednesday\, October 9 from 8:00 am to 12 Noon in the Oncology Education Room at Wyandot Memorial Hospital. \nThis educational course on managing diabetes is a multi-disciplinary approach to disease management with a nurse\, exercise physiologist\, dietitian and pharmacist.  This course will help you get the tools you need to improve your blood sugar through education\, diet\, exercise and medication. \nThe cost of the classes will be billed directly to Medicare or your insurer with a physician order.  Please check with your insurance plan to determine coverage and receive prior authorization if required. \nTo register\, contact the Wellness Center by calling 419-294-4991 extension 2236.
URL:https://www.wyandotmemorial.org/event/living-with-diabetes-15/
LOCATION:Wyandot Memorial Hospital\, 885 N. Sandusky Ave\, Upper Sandusky\, OH\, 43351\, United States
CATEGORIES:Support
ATTACH;FMTTYPE=image/jpeg:https://www.wyandotmemorial.org/wp-content/uploads/2021/12/living-with-diabetes-pic-no-pear-e1642779547441.jpg
END:VEVENT
BEGIN:VEVENT
DTSTART;TZID=America/New_York:20241009T080000
DTEND;TZID=America/New_York:20241009T120000
DTSTAMP:20260424T115930
CREATED:20240215T153534Z
LAST-MODIFIED:20240215T153534Z
UID:10000466-1728460800-1728475200@www.wyandotmemorial.org
SUMMARY:Living with Diabetes
DESCRIPTION:Living with Diabetes will be held on Tuesday\, October 8 and Wednesday\, October 9 from 8:00 am to 12 Noon in the Oncology Education Room at Wyandot Memorial Hospital. \nThis educational course on managing diabetes is a multi-disciplinary approach to disease management with a nurse\, exercise physiologist\, dietitian and pharmacist.  This course will help you get the tools you need to improve your blood sugar through education\, diet\, exercise and medication. \nThe cost of the classes will be billed directly to Medicare or your insurer with a physician order.  Please check with your insurance plan to determine coverage and receive prior authorization if required. \nTo register\, contact the Wellness Center by calling 419-294-4991 extension 2236.
URL:https://www.wyandotmemorial.org/event/living-with-diabetes-20/
LOCATION:Wyandot Memorial Hospital\, 885 N. Sandusky Ave\, Upper Sandusky\, OH\, 43351\, United States
CATEGORIES:Support
ATTACH;FMTTYPE=image/jpeg:https://www.wyandotmemorial.org/wp-content/uploads/2021/12/living-with-diabetes-pic-no-pear-e1642779547441.jpg
END:VEVENT
BEGIN:VEVENT
DTSTART;TZID=America/New_York:20241009T130000
DTEND;TZID=America/New_York:20241009T150000
DTSTAMP:20260424T115930
CREATED:20240903T135714Z
LAST-MODIFIED:20240903T135714Z
UID:10000578-1728478800-1728486000@www.wyandotmemorial.org
SUMMARY:H.O.P.E.---Helping Others through Purpose and Encouragement
DESCRIPTION:Reaching out to those dealing with chronic illness to offer education\, information\, service opportunities\, coping skills and support. \nWe’d love to have you and your family member or caregiver join us for our next meeting. And please note that you are welcome to attend just one or all of the meetings – whatever works for your schedule! \nOn Wednesday\, October 9 join us for “Hopeful Tips for Preparing our Flower & Vegetable Gardens for Winter”\, with Jeff Trautwein\, Owner of Lovena’s Greenhouse. \nThis meeting will begin at 1:00 P.M. in the WMH Oncology Education Room on the 2nd floor. \nFor more information contact Debbie Dilley at 419-731-4159. \n 
URL:https://www.wyandotmemorial.org/event/h-o-p-e-helping-others-through-purpose-and-encouragement-18/
CATEGORIES:Support
ATTACH;FMTTYPE=image/jpeg:https://www.wyandotmemorial.org/wp-content/uploads/2022/09/Hope-group.jpg
END:VEVENT
BEGIN:VEVENT
DTSTART;TZID=America/New_York:20241010T120000
DTEND;TZID=America/New_York:20241010T130000
DTSTAMP:20260424T115930
CREATED:20230203T181144Z
LAST-MODIFIED:20230203T181144Z
UID:10000300-1728561600-1728565200@www.wyandotmemorial.org
SUMMARY:Lunch With Friends
DESCRIPTION:The Lunch with Friends monthly social is for individuals who have lost a spouse or partner.  This group meets the second Thursday of each month at local restaurants to offer support and companionship.  Participants purchase their own meals. \nFor more information\, including the dates and locations for future gatherings\, contact Certified Grief Recovery Specialist Becky Greene at the Hospice office by phoning 419-294-5787. \n 
URL:https://www.wyandotmemorial.org/event/lunch-with-friends-9/2024-10-10/
CATEGORIES:Support
ATTACH;FMTTYPE=image/jpeg:https://www.wyandotmemorial.org/wp-content/uploads/2021/12/lunch-with-friends-e1639685475891.jpg
END:VEVENT
BEGIN:VEVENT
DTSTART;TZID=America/New_York:20241010T120000
DTEND;TZID=America/New_York:20241010T130000
DTSTAMP:20260424T115930
CREATED:20240215T145600Z
LAST-MODIFIED:20240215T145600Z
UID:10000450-1728561600-1728565200@www.wyandotmemorial.org
SUMMARY:Lunch With Friends
DESCRIPTION:The Lunch with Friends monthly social is for individuals who have lost a spouse or partner.  This group meets the second Thursday of each month at local restaurants to offer support and companionship.  Participants purchase their own meals. \nFor more information\, including the dates and locations for future gatherings\, contact Certified Grief Recovery Specialist Becky Greene at the Hospice office by calling 419-294-5787. \n 
URL:https://www.wyandotmemorial.org/event/lunch-with-friends-17/2024-10-10/
CATEGORIES:Support
ATTACH;FMTTYPE=image/jpeg:https://www.wyandotmemorial.org/wp-content/uploads/2021/12/lunch-with-friends-e1639685475891.jpg
END:VEVENT
BEGIN:VEVENT
DTSTART;TZID=America/New_York:20241014T073000
DTEND;TZID=America/New_York:20241014T180000
DTSTAMP:20260424T115930
CREATED:20240415T204725Z
LAST-MODIFIED:20240415T204725Z
UID:10000478-1728891000-1728928800@www.wyandotmemorial.org
SUMMARY:Breast Cancer Awareness Day
DESCRIPTION:Breast Cancer Awareness Day at Wyandot Memorial Hospital is scheduled for Monday\, October 14 from 7:30 am to 6 pm. \nFree clinical breast exams will be be offered by our Women’s Health Providers. \nWalk-In screening mammograms are available\, billable to insurance or the Breast & Cervical Cancer Project \nFor more information or to schedule an appointment\, call Women’s Health Navigator Brittany Thiel at 419-294-4991 extension 5762.
URL:https://www.wyandotmemorial.org/event/breast-cancer-awareness-day-3/
ATTACH;FMTTYPE=image/jpeg:https://www.wyandotmemorial.org/wp-content/uploads/2022/09/BCA-ribbon-for-website.jpg
END:VEVENT
BEGIN:VEVENT
DTSTART;TZID=America/New_York:20241022T173000
DTEND;TZID=America/New_York:20241022T190000
DTSTAMP:20260424T115930
CREATED:20230203T182008Z
LAST-MODIFIED:20230203T182008Z
UID:10000360-1729618200-1729623600@www.wyandotmemorial.org
SUMMARY:Grief Support Group
DESCRIPTION:The Grief Support Group meets on the fourth Tuesday of each month beginning at 5:30 PM in the Oncology Education Room at Wyandot Memorial Hospital. Certified Grief Recovery Specialist Becky Greene hosts the meeting and leads the discussion.  For more information contact the Hospice office by calling 419-294-5787.
URL:https://www.wyandotmemorial.org/event/grief-support-group-9/2024-10-22/
LOCATION:Wyandot Memorial Hospital Oncology Education Room\, 885 N. Sandusky Ave.\, Upper Sandusky\, OH\, 43351\, United States
CATEGORIES:Support
ATTACH;FMTTYPE=image/png:https://www.wyandotmemorial.org/wp-content/uploads/2021/10/Grief-Support-Group.png
END:VEVENT
BEGIN:VEVENT
DTSTART;TZID=America/New_York:20241022T173000
DTEND;TZID=America/New_York:20241022T190000
DTSTAMP:20260424T115930
CREATED:20240215T150816Z
LAST-MODIFIED:20240215T150816Z
UID:10000460-1729618200-1729623600@www.wyandotmemorial.org
SUMMARY:Grief Support Group
DESCRIPTION:The Grief Support Group meets on the fourth Tuesday of each month beginning at 5:30 PM at the Hospice office at 105 Houpt Drive\, Upper Sandusky. Certified Grief Recovery Specialist Becky Greene hosts the meeting and leads the discussion.  For more information contact the Hospice office by calling 419-294-5787.
URL:https://www.wyandotmemorial.org/event/grief-support-group-17/2024-10-22/
LOCATION:Wyandot Memorial Hospital Oncology Education Room\, 885 N. Sandusky Ave.\, Upper Sandusky\, OH\, 43351\, United States
CATEGORIES:Support
ATTACH;FMTTYPE=image/png:https://www.wyandotmemorial.org/wp-content/uploads/2021/10/Grief-Support-Group.png
END:VEVENT
BEGIN:VEVENT
DTSTART;TZID=America/New_York:20241023T130000
DTEND;TZID=America/New_York:20241023T150000
DTSTAMP:20260424T115930
CREATED:20240903T140228Z
LAST-MODIFIED:20240903T140731Z
UID:10000580-1729688400-1729695600@www.wyandotmemorial.org
SUMMARY:H.O.P.E.---Helping Others through Purpose and Encouragement
DESCRIPTION:Reaching out to those dealing with chronic illness to offer education\, information\, service opportunities\, coping skills and support. \nWe’d love to have you and your family member or caregiver join us for our next meeting. And please note that you are welcome to attend just one or all of the meetings – whatever works for your schedule! \nOn Wednesday\, October 23  join us for “Hope in a Tea Bag” with Patti Davidson\, who will share about the health benefits of herbs and spices. \nThis meeting will begin at 1:00 P.M. in the WMH Oncology Education Room on the 2nd floor. \nFor more information contact Debbie Dilley at 419-731-4159. \n 
URL:https://www.wyandotmemorial.org/event/h-o-p-e-helping-others-through-purpose-and-encouragement-33/
CATEGORIES:Support
ATTACH;FMTTYPE=image/jpeg:https://www.wyandotmemorial.org/wp-content/uploads/2022/09/Hope-group.jpg
END:VEVENT
END:VCALENDAR