BEGIN:VCALENDAR
VERSION:2.0
PRODID:-//Wyandot Memorial Hospital - ECPv6.15.17.1//NONSGML v1.0//EN
CALSCALE:GREGORIAN
METHOD:PUBLISH
X-ORIGINAL-URL:https://www.wyandotmemorial.org
X-WR-CALDESC:Events for Wyandot Memorial Hospital
REFRESH-INTERVAL;VALUE=DURATION:PT1H
X-Robots-Tag:noindex
X-PUBLISHED-TTL:PT1H
BEGIN:VTIMEZONE
TZID:America/New_York
BEGIN:DAYLIGHT
TZOFFSETFROM:-0500
TZOFFSETTO:-0400
TZNAME:EDT
DTSTART:20240310T070000
END:DAYLIGHT
BEGIN:STANDARD
TZOFFSETFROM:-0400
TZOFFSETTO:-0500
TZNAME:EST
DTSTART:20241103T060000
END:STANDARD
BEGIN:DAYLIGHT
TZOFFSETFROM:-0500
TZOFFSETTO:-0400
TZNAME:EDT
DTSTART:20250309T070000
END:DAYLIGHT
BEGIN:STANDARD
TZOFFSETFROM:-0400
TZOFFSETTO:-0500
TZNAME:EST
DTSTART:20251102T060000
END:STANDARD
BEGIN:DAYLIGHT
TZOFFSETFROM:-0500
TZOFFSETTO:-0400
TZNAME:EDT
DTSTART:20260308T070000
END:DAYLIGHT
BEGIN:STANDARD
TZOFFSETFROM:-0400
TZOFFSETTO:-0500
TZNAME:EST
DTSTART:20261101T060000
END:STANDARD
END:VTIMEZONE
BEGIN:VEVENT
DTSTART;TZID=America/New_York:20250312T130000
DTEND;TZID=America/New_York:20250312T150000
DTSTAMP:20260424T205422
CREATED:20250306T222019Z
LAST-MODIFIED:20250306T222019Z
UID:10000674-1741784400-1741791600@www.wyandotmemorial.org
SUMMARY:H.O.P.E.---Helping Others through Purpose and Encouragement
DESCRIPTION:Reaching out to those dealing with chronic illness to offer education\, information\, service opportunities\, coping skills and support. \nWe’d love to have you and your family member or caregiver join us for our next meeting. And please note that you are welcome to attend just one or all of the meetings – whatever works for your schedule! \n  \nOn Wednesday\, March 12 join us for “Springing Into Hope”\, a hope-filled conversation with Pastor Amy Vittorio about your self care journey.   This meeting will be held from 1:00 to 3:00 PM. \nFor more information contact Debbie Dilley at 419-731-4159. \n 
URL:https://www.wyandotmemorial.org/event/h-o-p-e-helping-others-through-purpose-and-encouragement-36/
CATEGORIES:Support
ATTACH;FMTTYPE=image/jpeg:https://www.wyandotmemorial.org/wp-content/uploads/2022/09/Hope-group.jpg
END:VEVENT
BEGIN:VEVENT
DTSTART;TZID=America/New_York:20250312T163000
DTEND;TZID=America/New_York:20250312T173000
DTSTAMP:20260424T205422
CREATED:20250114T135231Z
LAST-MODIFIED:20250114T135231Z
UID:10000592-1741797000-1741800600@www.wyandotmemorial.org
SUMMARY:Diabetic Support Group
DESCRIPTION:The Diabetic Support Group meets on the 2nd Wednesday every other month at 4:30 PM in the Oncology Education Room at Wyandot Memorial Hospital. \n  \nFor more information\, contact the WMH Wellness Center at 419-294-4991 extension 2236.
URL:https://www.wyandotmemorial.org/event/diabetic-support-group-17/
LOCATION:Wyandot Memorial Hospital\, 885 N. Sandusky Ave\, Upper Sandusky\, OH\, 43351\, United States
CATEGORIES:Support
END:VEVENT
END:VCALENDAR